BEGIN:VCALENDAR
VERSION:2.0
PRODID:-//Garage Goals - ECPv5.2.0//NONSGML v1.0//EN
CALSCALE:GREGORIAN
METHOD:PUBLISH
X-WR-CALNAME:Garage Goals
X-ORIGINAL-URL:https://garagegoalsofficial.com
X-WR-CALDESC:Events for Garage Goals
BEGIN:VTIMEZONE
TZID:UTC
BEGIN:STANDARD
TZOFFSETFROM:+0000
TZOFFSETTO:+0000
TZNAME:UTC
DTSTART:20180101T000000
END:STANDARD
END:VTIMEZONE
BEGIN:VEVENT
DTSTART;VALUE=DATE:20180124
DTEND;VALUE=DATE:20180129
DTSTAMP:20260422T031522
CREATED:20180126T183644Z
LAST-MODIFIED:20180126T183644Z
UID:2860-1516752000-1517183999@garagegoalsofficial.com
SUMMARY:houston auto show
DESCRIPTION:NRG center
URL:https://garagegoalsofficial.com/event/houston-auto-show-3/
END:VEVENT
END:VCALENDAR