BEGIN:VCALENDAR
VERSION:2.0
PRODID:-//Garage Goals - ECPv5.2.0//NONSGML v1.0//EN
CALSCALE:GREGORIAN
METHOD:PUBLISH
X-WR-CALNAME:Garage Goals
X-ORIGINAL-URL:https://garagegoalsofficial.com
X-WR-CALDESC:Events for Garage Goals
BEGIN:VTIMEZONE
TZID:UTC
BEGIN:STANDARD
TZOFFSETFROM:+0000
TZOFFSETTO:+0000
TZNAME:UTC
DTSTART:20180101T000000
END:STANDARD
END:VTIMEZONE
BEGIN:VEVENT
DTSTART;VALUE=DATE:20180622
DTEND;VALUE=DATE:20180702
DTSTAMP:20260419T173355
CREATED:20180514T180158Z
LAST-MODIFIED:20180514T180158Z
UID:3872-1529625600-1530489599@garagegoalsofficial.com
SUMMARY:Gold Rush Rally
DESCRIPTION:“We at GoldRush rally are bursting with excitement to welcome you on our anticipated 10 year anniversary – GRX. For the last decade\, goldRush rally has welcomed distinguished guests\, VIP celebrities\, and automotive influencers to the #1 luxury rally in the country. Participants drive through high profile cities and scenic back roads to be met at each stop by dedicated fans and paparazzi alike. Unforgettable moments are commonplace on goldRush rally as we shut down famous landmarks along the way; past marks include the Golden Gate Bridge and Las Vegas Boulevard. This momentous occasion will be nothing less than exceptional with a groundbreaking line-up of cars\, people and places.” \n-Gold Rush Rally
URL:https://garagegoalsofficial.com/event/gold-rush-rally-2/
END:VEVENT
END:VCALENDAR